BEGIN:VCALENDAR
VERSION:2.0
PRODID:-//wp-events-plugin.com//7.2.3.1//EN
TZID:Europe/Berlin
X-WR-TIMEZONE:Europe/Berlin
BEGIN:VEVENT
UID:28@jazz49.com
DTSTART;TZID=Europe/Berlin:20260823T160000
DTEND;TZID=Europe/Berlin:20260823T160000
DTSTAMP:20260221T043857Z
URL:https://jazz49.com/events/luah/
SUMMARY:LUAH
DESCRIPTION:Authentische Melodien\, geschmeidige Arrangements\, afrobrasili
 anische Rhythmen und Songs über die Vielfalt an Stimmungen zwischen leben
 sfroher Celebração und sehnsüchtiger Saudade – das sind die Zutaten v
 on LUAH\, dem Vocal Trio von Elsa Johanna Mohr.\n\nDie Singer-Songwriterin
  aus Köln ist eine Weltreisende mit lokaler Bodenhaftung\, die weiß wie 
 es ist\, auf Portugiesisch zu träumen und auf Englisch Herz und Verstand\
 , eigene Erwartungen und Ansprüche von außen in Einklang zu bringen. Ihr
 e Songs erzählen von Begegnungen\, die Spuren hinterlassen\, vom Mut\, au
 ch flüchtige Momente einfach zu genießen und von Hoffnungen in eine lebe
 nswerte Zukunft.\n\nMal sanftmütig\, dann wieder roh\, mal schwebend\, da
 nn wieder geerdet\, verwebt das Vocal Trio „LUAH“ Elemente aus Jazz-/S
 inger-Songwriter/Pop- und brasilianischer Musik zu einer Symbiose. Authent
 isch und verträumt – zwischen Mainstream und Unvorhersehbarem: Die Köl
 ner Band hat sich einen individuellen Sound erschaffen\, der gepaart mit b
 rasilianischen Elementen und Improvisation eine ganz eigene Nische bedient
 .\n\nLINE UP:\n\nElsa Johanna Mohr - vocals\, ukulele\, percussion\, compo
 sition\n\nLena-Larissa Senge - vocals\, synthesizer\, glockenspiel\, percu
 ssion\n\nUla Martyn-Ellis - e-guitare\, vocals\n\n&nbsp\;
ATTACH;FMTTYPE=image/jpeg:https://jazz49.com/wp-content/uploads/2026/02/20
 26-08-23-LUAH1_c_Ferry-Mohr.jpg
CATEGORIES:Jazz in der Region 49
LOCATION:Hasefriedhof\, Bramscher Str. 103\, Osnabrück\, 49088 \, Deutschl
 and
X-APPLE-STRUCTURED-LOCATION;VALUE=URI;X-ADDRESS=Bramscher Str. 103\, Osnabr
 ück\, 49088 \, Deutschland;X-APPLE-RADIUS=100;X-TITLE=Hasefriedhof:geo:0,
 0
END:VEVENT
BEGIN:VTIMEZONE
TZID:Europe/Berlin
X-LIC-LOCATION:Europe/Berlin
BEGIN:DAYLIGHT
DTSTART:20260329T030000
TZOFFSETFROM:+0100
TZOFFSETTO:+0200
TZNAME:CEST
END:DAYLIGHT
END:VTIMEZONE
END:VCALENDAR