BEGIN:VCALENDAR
VERSION:2.0
PRODID:-//wp-events-plugin.com//7.2.3.1//EN
TZID:Europe/Berlin
X-WR-TIMEZONE:Europe/Berlin
BEGIN:VEVENT
UID:29@jazz49.com
DTSTART;TZID=Europe/Berlin:20261028T200000
DTEND;TZID=Europe/Berlin:20261028T200000
DTSTAMP:20260212T220110Z
URL:https://jazz49.com/events/flaw-and-order/
SUMMARY:Flaw And Order
DESCRIPTION:Das Jazzquartett Flaw And Order widmet sich\, wie der Name scho
 n verrät\, der Ambivalenz aus Chaos und Ordnung. Feste Strukturen werden 
 gezielt gestört und aus einem Tohuwabohu von Klängen erwächst eine neue
  Gesetzmäßigkeit.\n\nDabei loten Mattis Fuchs (Alt-/Sopransaxophon)\, Wi
 ebke Schröder (Piano)\, Minh Voong (Kontra-/E-Bass) und Sebastian Metken 
 (Schlagzeug) fortwährend verschiedene Klangwelten aus und klingen dabei m
 al losgelöst\, frei und schwebend\, dann wieder gefestigt\, klar und eing
 ängig.\n\nIhre musikalische Neugier drückt sich vor allem in Eigenkompos
 itionen\, aber auch in modernen Interpretationen von Songs und Standards a
 us. Die Musik\, die dabei entsteht\, ist meistens im Bereich des Modern Ja
 zz anzusiedeln\, häufig gemischt mit orientalischen oder rockigen Anklän
 gen.\n\n&nbsp\;\n\n&nbsp\;
ATTACH;FMTTYPE=image/jpeg:https://jazz49.com/wp-content/uploads/2026/02/Fl
 awAndOrder_color2-scaled.jpg
CATEGORIES:Jazz in der Region 49
LOCATION:Tuchmacher Museum\, Mühlenort 6\, Bramsche\, 49565 \, Deutschland
X-APPLE-STRUCTURED-LOCATION;VALUE=URI;X-ADDRESS=Mühlenort 6\, Bramsche\, 4
 9565 \, Deutschland;X-APPLE-RADIUS=100;X-TITLE=Tuchmacher Museum:geo:0,0
END:VEVENT
BEGIN:VTIMEZONE
TZID:Europe/Berlin
X-LIC-LOCATION:Europe/Berlin
BEGIN:STANDARD
DTSTART:20261025T020000
TZOFFSETFROM:+0200
TZOFFSETTO:+0100
TZNAME:CET
END:STANDARD
END:VTIMEZONE
END:VCALENDAR